BEGIN:VCALENDAR
VERSION:2.0
PRODID:-//Lancashire LGBT - Happier, healthier and better connected - ECPv6.15.20//NONSGML v1.0//EN
CALSCALE:GREGORIAN
METHOD:PUBLISH
X-ORIGINAL-URL:https://lancslgbt.org.uk
X-WR-CALDESC:Events for Lancashire LGBT - Happier, healthier and better connected
REFRESH-INTERVAL;VALUE=DURATION:PT1H
X-Robots-Tag:noindex
X-PUBLISHED-TTL:PT1H
BEGIN:VTIMEZONE
TZID:UTC
BEGIN:STANDARD
TZOFFSETFROM:+0000
TZOFFSETTO:+0000
TZNAME:UTC
DTSTART:20220101T000000
END:STANDARD
END:VTIMEZONE
BEGIN:VEVENT
DTSTART;VALUE=DATE:20231109
DTEND;VALUE=DATE:20231110
DTSTAMP:20260421T135026
CREATED:20231031T103844Z
LAST-MODIFIED:20231031T103844Z
UID:7513-1699488000-1699574399@lancslgbt.org.uk
SUMMARY:Gender Outreach Drop-in
DESCRIPTION:Gender outreach workers Jenny and Brad run a drop-in service at UCLan for trans and non-binary people who are on the waiting list for gender care or who need support with their gender identity. To attend please call 0800 183 1486.
URL:https://lancslgbt.org.uk/event/gender-outreach-drop-in-2/
LOCATION:UCLan
END:VEVENT
BEGIN:VEVENT
DTSTART;TZID=UTC:20231109T183000
DTEND;TZID=UTC:20231109T200000
DTSTAMP:20260421T135026
CREATED:20231031T110930Z
LAST-MODIFIED:20231031T110930Z
UID:7515-1699554600-1699560000@lancslgbt.org.uk
SUMMARY:LGBT+ Women and Non-Binary group
DESCRIPTION:LGBQ+ Women and non-binary group is a support group for gay\, bisexual\, trans and non-binary women aged 18 upwards. You can register to join the group here https://www.smartsurvey.co.uk/s/2UFK2A/
URL:https://lancslgbt.org.uk/event/lgbt-women-and-non-binary-group/
END:VEVENT
END:VCALENDAR